BEGIN:VCALENDAR
VERSION:2.0
PRODID:-//Gemeinde Waldems - ECPv6.15.20//NONSGML v1.0//EN
CALSCALE:GREGORIAN
METHOD:PUBLISH
X-WR-CALNAME:Gemeinde Waldems
X-ORIGINAL-URL:https://gemeinde-waldems.de
X-WR-CALDESC:Veranstaltungen für Gemeinde Waldems
REFRESH-INTERVAL;VALUE=DURATION:PT1H
X-Robots-Tag:noindex
X-PUBLISHED-TTL:PT1H
BEGIN:VTIMEZONE
TZID:Europe/Berlin
BEGIN:DAYLIGHT
TZOFFSETFROM:+0100
TZOFFSETTO:+0200
TZNAME:CEST
DTSTART:20250330T010000
END:DAYLIGHT
BEGIN:STANDARD
TZOFFSETFROM:+0200
TZOFFSETTO:+0100
TZNAME:CET
DTSTART:20251026T010000
END:STANDARD
BEGIN:DAYLIGHT
TZOFFSETFROM:+0100
TZOFFSETTO:+0200
TZNAME:CEST
DTSTART:20260329T010000
END:DAYLIGHT
BEGIN:STANDARD
TZOFFSETFROM:+0200
TZOFFSETTO:+0100
TZNAME:CET
DTSTART:20261025T010000
END:STANDARD
BEGIN:DAYLIGHT
TZOFFSETFROM:+0100
TZOFFSETTO:+0200
TZNAME:CEST
DTSTART:20270328T010000
END:DAYLIGHT
BEGIN:STANDARD
TZOFFSETFROM:+0200
TZOFFSETTO:+0100
TZNAME:CET
DTSTART:20271031T010000
END:STANDARD
END:VTIMEZONE
BEGIN:VEVENT
DTSTART;TZID=Europe/Berlin:20261128T160000
DTEND;TZID=Europe/Berlin:20261128T160000
DTSTAMP:20260423T120243
CREATED:20260211T084554Z
LAST-MODIFIED:20260211T084611Z
UID:8795-1795881600-1795881600@gemeinde-waldems.de
SUMMARY:Adventsmarkt Steinfischbach
DESCRIPTION:
URL:https://gemeinde-waldems.de/event/adventsmarkt-steinfischbach/
END:VEVENT
BEGIN:VEVENT
DTSTART;TZID=Europe/Berlin:20261129T143000
DTEND;TZID=Europe/Berlin:20261129T143000
DTSTAMP:20260423T120243
CREATED:20260309T115455Z
LAST-MODIFIED:20260309T120853Z
UID:8923-1795962600-1795962600@gemeinde-waldems.de
SUMMARY:Vorweihnachtlicher Nachmittag
DESCRIPTION:
URL:https://gemeinde-waldems.de/event/vorweihnachtlicher-nachmittag/
LOCATION:TV Sporthalle Bermbach
END:VEVENT
BEGIN:VEVENT
DTSTART;VALUE=DATE:20261203
DTEND;VALUE=DATE:20261204
DTSTAMP:20260423T120243
CREATED:20260422T092832Z
LAST-MODIFIED:20260422T093946Z
UID:9074-1796256000-1796342399@gemeinde-waldems.de
SUMMARY:Glühweinabend auf dem Dorfplatz
DESCRIPTION:
URL:https://gemeinde-waldems.de/event/gluehweinabend-auf-dem-dorfplatz/
LOCATION:Dorfplatz Bermbach
END:VEVENT
BEGIN:VEVENT
DTSTART;VALUE=DATE:20261204
DTEND;VALUE=DATE:20261205
DTSTAMP:20260423T120243
CREATED:20260211T084736Z
LAST-MODIFIED:20260211T084736Z
UID:8797-1796342400-1796428799@gemeinde-waldems.de
SUMMARY:Glühweinabend in Reichenbach
DESCRIPTION:
URL:https://gemeinde-waldems.de/event/gluehweinabend-in-reichenbach/
LOCATION:Am Dorfgemeinschaftshaus 1\, 65529 Waldems-Reichenbach
END:VEVENT
BEGIN:VEVENT
DTSTART;VALUE=DATE:20261205
DTEND;VALUE=DATE:20261206
DTSTAMP:20260423T120243
CREATED:20260211T084901Z
LAST-MODIFIED:20260211T084901Z
UID:8799-1796428800-1796515199@gemeinde-waldems.de
SUMMARY:Scheunenadvent NABU
DESCRIPTION:
URL:https://gemeinde-waldems.de/event/scheunenadvent-nabu/
LOCATION:Feldscheune Reichenbach
END:VEVENT
BEGIN:VEVENT
DTSTART;VALUE=DATE:20261211
DTEND;VALUE=DATE:20261212
DTSTAMP:20260423T120243
CREATED:20260211T091940Z
LAST-MODIFIED:20260211T091940Z
UID:8801-1796947200-1797033599@gemeinde-waldems.de
SUMMARY:Glühweintreff Steinfischbach
DESCRIPTION:
URL:https://gemeinde-waldems.de/event/gluehweintreff-steinfischbach/
LOCATION:Kulturhalle Steinfischbach
END:VEVENT
BEGIN:VEVENT
DTSTART;VALUE=DATE:20261211
DTEND;VALUE=DATE:20261212
DTSTAMP:20260423T120243
CREATED:20260211T092828Z
LAST-MODIFIED:20260211T093650Z
UID:8807-1796947200-1797033599@gemeinde-waldems.de
SUMMARY:Glühweintreff Steinfischbach
DESCRIPTION:
URL:https://gemeinde-waldems.de/event/gluehweintreff-steinfischbach-2/
LOCATION:Vereinsheim DRK / Kulturhalle
END:VEVENT
BEGIN:VEVENT
DTSTART;VALUE=DATE:20261212
DTEND;VALUE=DATE:20261213
DTSTAMP:20260423T120243
CREATED:20260211T092038Z
LAST-MODIFIED:20260211T092038Z
UID:8803-1797033600-1797119999@gemeinde-waldems.de
SUMMARY:Seniorenweihnachtsfeier in Steinfischbach
DESCRIPTION:
URL:https://gemeinde-waldems.de/event/seniorenweihnachtsfeier-in-steinfischbach/
LOCATION:Kulturhalle Steinfischbach
END:VEVENT
BEGIN:VEVENT
DTSTART;TZID=Europe/Berlin:20261213T170000
DTEND;TZID=Europe/Berlin:20261213T170000
DTSTAMP:20260423T120243
CREATED:20260211T100721Z
LAST-MODIFIED:20260211T100915Z
UID:8809-1797181200-1797181200@gemeinde-waldems.de
SUMMARY:Adventssingen mit anschließendem Glühweinausschank
DESCRIPTION:
URL:https://gemeinde-waldems.de/event/adventssingen-mit-anschliessendem-gluehweinausschank/
LOCATION:Evangelische Kirche Reichenbach\, Obergasse 13\, Waldems\, Hessen\, 65529
END:VEVENT
BEGIN:VEVENT
DTSTART;TZID=Europe/Berlin:20261216T150000
DTEND;TZID=Europe/Berlin:20261216T170000
DTSTAMP:20260423T120243
CREATED:20260325T110927Z
LAST-MODIFIED:20260325T110927Z
UID:9023-1797433200-1797440400@gemeinde-waldems.de
SUMMARY:Café Lebensfreude im Haus "Goldener Grund"
DESCRIPTION:Flyer
URL:https://gemeinde-waldems.de/event/cafe-lebensfreude-im-haus-goldener-grund-5-2-2-5-5-4-2-4-4-4-3-2-4-4-3/
LOCATION:Haus “Goldener Grund”\, Im Brühl 1\, Waldems-Esch
END:VEVENT
BEGIN:VEVENT
DTSTART;VALUE=DATE:20261219
DTEND;VALUE=DATE:20261220
DTSTAMP:20260423T120243
CREATED:20260211T092719Z
LAST-MODIFIED:20260211T092719Z
UID:8805-1797638400-1797724799@gemeinde-waldems.de
SUMMARY:Benefizkonzert Chorisma
DESCRIPTION:
URL:https://gemeinde-waldems.de/event/benefizkonzert-chorisma-2/
LOCATION:Evangelische Kirche Steinfischbach\, Camberger Straße 15\, Waldems\, Hessen\, 65529\, Deutschland
END:VEVENT
END:VCALENDAR