BEGIN:VCALENDAR
VERSION:2.0
PRODID:-//Gemeinde Waldems - ECPv6.15.20//NONSGML v1.0//EN
CALSCALE:GREGORIAN
METHOD:PUBLISH
X-WR-CALNAME:Gemeinde Waldems
X-ORIGINAL-URL:https://gemeinde-waldems.de
X-WR-CALDESC:Veranstaltungen für Gemeinde Waldems
REFRESH-INTERVAL;VALUE=DURATION:PT1H
X-Robots-Tag:noindex
X-PUBLISHED-TTL:PT1H
BEGIN:VTIMEZONE
TZID:Europe/Berlin
BEGIN:DAYLIGHT
TZOFFSETFROM:+0100
TZOFFSETTO:+0200
TZNAME:CEST
DTSTART:20250330T010000
END:DAYLIGHT
BEGIN:STANDARD
TZOFFSETFROM:+0200
TZOFFSETTO:+0100
TZNAME:CET
DTSTART:20251026T010000
END:STANDARD
BEGIN:DAYLIGHT
TZOFFSETFROM:+0100
TZOFFSETTO:+0200
TZNAME:CEST
DTSTART:20260329T010000
END:DAYLIGHT
BEGIN:STANDARD
TZOFFSETFROM:+0200
TZOFFSETTO:+0100
TZNAME:CET
DTSTART:20261025T010000
END:STANDARD
BEGIN:DAYLIGHT
TZOFFSETFROM:+0100
TZOFFSETTO:+0200
TZNAME:CEST
DTSTART:20270328T010000
END:DAYLIGHT
BEGIN:STANDARD
TZOFFSETFROM:+0200
TZOFFSETTO:+0100
TZNAME:CET
DTSTART:20271031T010000
END:STANDARD
END:VTIMEZONE
BEGIN:VEVENT
DTSTART;TZID=Europe/Berlin:20260624T150000
DTEND;TZID=Europe/Berlin:20260624T170000
DTSTAMP:20260426T052341
CREATED:20260325T084926Z
LAST-MODIFIED:20260325T084940Z
UID:9011-1782313200-1782320400@gemeinde-waldems.de
SUMMARY:Café Lebensfreude im Haus "Goldener Grund"
DESCRIPTION:Flyer
URL:https://gemeinde-waldems.de/event/cafe-lebensfreude-im-haus-goldener-grund-5-2-2-5-5-4-2-4-4-4-3-2-3/
LOCATION:Haus „Goldener Grund“\, Im Brühl 1\, 65529 Waldems-Esch
END:VEVENT
END:VCALENDAR