BEGIN:VCALENDAR
VERSION:2.0
PRODID:-//Gemeinde Waldems - ECPv6.15.20//NONSGML v1.0//EN
CALSCALE:GREGORIAN
METHOD:PUBLISH
X-WR-CALNAME:Gemeinde Waldems
X-ORIGINAL-URL:https://gemeinde-waldems.de
X-WR-CALDESC:Veranstaltungen für Gemeinde Waldems
REFRESH-INTERVAL;VALUE=DURATION:PT1H
X-Robots-Tag:noindex
X-PUBLISHED-TTL:PT1H
BEGIN:VTIMEZONE
TZID:Europe/Berlin
BEGIN:DAYLIGHT
TZOFFSETFROM:+0100
TZOFFSETTO:+0200
TZNAME:CEST
DTSTART:20250330T010000
END:DAYLIGHT
BEGIN:STANDARD
TZOFFSETFROM:+0200
TZOFFSETTO:+0100
TZNAME:CET
DTSTART:20251026T010000
END:STANDARD
BEGIN:DAYLIGHT
TZOFFSETFROM:+0100
TZOFFSETTO:+0200
TZNAME:CEST
DTSTART:20260329T010000
END:DAYLIGHT
BEGIN:STANDARD
TZOFFSETFROM:+0200
TZOFFSETTO:+0100
TZNAME:CET
DTSTART:20261025T010000
END:STANDARD
BEGIN:DAYLIGHT
TZOFFSETFROM:+0100
TZOFFSETTO:+0200
TZNAME:CEST
DTSTART:20270328T010000
END:DAYLIGHT
BEGIN:STANDARD
TZOFFSETFROM:+0200
TZOFFSETTO:+0100
TZNAME:CET
DTSTART:20271031T010000
END:STANDARD
END:VTIMEZONE
BEGIN:VEVENT
DTSTART;TZID=Europe/Berlin:20260623T183000
DTEND;TZID=Europe/Berlin:20260623T183000
DTSTAMP:20260426T040105
CREATED:20260223T115552Z
LAST-MODIFIED:20260223T115600Z
UID:8851-1782239400-1782239400@gemeinde-waldems.de
SUMMARY:Buch und Wein auf dem Dorfplatz in Bermbach
DESCRIPTION:
URL:https://gemeinde-waldems.de/event/buch-und-wein-auf-dem-dorfplatz-in-bermbach/
LOCATION:Dorfplatz Bermbach
END:VEVENT
END:VCALENDAR