BEGIN:VCALENDAR
VERSION:2.0
PRODID:-//Gemeinde Waldems - ECPv6.15.20//NONSGML v1.0//EN
CALSCALE:GREGORIAN
METHOD:PUBLISH
X-ORIGINAL-URL:https://gemeinde-waldems.de
X-WR-CALDESC:Veranstaltungen für Gemeinde Waldems
REFRESH-INTERVAL;VALUE=DURATION:PT1H
X-Robots-Tag:noindex
X-PUBLISHED-TTL:PT1H
BEGIN:VTIMEZONE
TZID:Europe/Berlin
BEGIN:DAYLIGHT
TZOFFSETFROM:+0100
TZOFFSETTO:+0200
TZNAME:CEST
DTSTART:20250330T010000
END:DAYLIGHT
BEGIN:STANDARD
TZOFFSETFROM:+0200
TZOFFSETTO:+0100
TZNAME:CET
DTSTART:20251026T010000
END:STANDARD
BEGIN:DAYLIGHT
TZOFFSETFROM:+0100
TZOFFSETTO:+0200
TZNAME:CEST
DTSTART:20260329T010000
END:DAYLIGHT
BEGIN:STANDARD
TZOFFSETFROM:+0200
TZOFFSETTO:+0100
TZNAME:CET
DTSTART:20261025T010000
END:STANDARD
BEGIN:DAYLIGHT
TZOFFSETFROM:+0100
TZOFFSETTO:+0200
TZNAME:CEST
DTSTART:20270328T010000
END:DAYLIGHT
BEGIN:STANDARD
TZOFFSETFROM:+0200
TZOFFSETTO:+0100
TZNAME:CET
DTSTART:20271031T010000
END:STANDARD
END:VTIMEZONE
BEGIN:VEVENT
DTSTART;VALUE=DATE:20260604
DTEND;VALUE=DATE:20260605
DTSTAMP:20260425T140829
CREATED:20260204T085620Z
LAST-MODIFIED:20260204T101213Z
UID:8729-1780531200-1780617599@gemeinde-waldems.de
SUMMARY:Burger\, Bier und Blaulicht Reichenbach
DESCRIPTION:
URL:https://gemeinde-waldems.de/event/burger-bier-und-blaulichtparty-reichenbach/
LOCATION:An der Feuerwehr Reichenbach
END:VEVENT
BEGIN:VEVENT
DTSTART;TZID=Europe/Berlin:20260604T110000
DTEND;TZID=Europe/Berlin:20260604T190000
DTSTAMP:20260425T140829
CREATED:20250714T065852Z
LAST-MODIFIED:20250714T065912Z
UID:8009-1780570800-1780599600@gemeinde-waldems.de
SUMMARY:Burger\, Bier & Blaulicht – Feuerwehr Reichenbach
DESCRIPTION:
URL:https://gemeinde-waldems.de/event/burger-bier-blaulicht-feuerwehr-reichenbach-2/
LOCATION:Rund um das Gerätehaus der Feuerwehr Reichenbach
END:VEVENT
END:VCALENDAR