BEGIN:VCALENDAR
VERSION:2.0
PRODID:-//Gemeinde Waldems - ECPv6.15.20//NONSGML v1.0//EN
CALSCALE:GREGORIAN
METHOD:PUBLISH
X-WR-CALNAME:Gemeinde Waldems
X-ORIGINAL-URL:https://gemeinde-waldems.de
X-WR-CALDESC:Veranstaltungen für Gemeinde Waldems
REFRESH-INTERVAL;VALUE=DURATION:PT1H
X-Robots-Tag:noindex
X-PUBLISHED-TTL:PT1H
BEGIN:VTIMEZONE
TZID:Europe/Berlin
BEGIN:DAYLIGHT
TZOFFSETFROM:+0100
TZOFFSETTO:+0200
TZNAME:CEST
DTSTART:20250330T010000
END:DAYLIGHT
BEGIN:STANDARD
TZOFFSETFROM:+0200
TZOFFSETTO:+0100
TZNAME:CET
DTSTART:20251026T010000
END:STANDARD
BEGIN:DAYLIGHT
TZOFFSETFROM:+0100
TZOFFSETTO:+0200
TZNAME:CEST
DTSTART:20260329T010000
END:DAYLIGHT
BEGIN:STANDARD
TZOFFSETFROM:+0200
TZOFFSETTO:+0100
TZNAME:CET
DTSTART:20261025T010000
END:STANDARD
BEGIN:DAYLIGHT
TZOFFSETFROM:+0100
TZOFFSETTO:+0200
TZNAME:CEST
DTSTART:20270328T010000
END:DAYLIGHT
BEGIN:STANDARD
TZOFFSETFROM:+0200
TZOFFSETTO:+0100
TZNAME:CET
DTSTART:20271031T010000
END:STANDARD
END:VTIMEZONE
BEGIN:VEVENT
DTSTART;TZID=Europe/Berlin:20260426T093000
DTEND;TZID=Europe/Berlin:20260426T140000
DTSTAMP:20260426T013013
CREATED:20260203T115748Z
LAST-MODIFIED:20260203T115748Z
UID:8676-1777195800-1777212000@gemeinde-waldems.de
SUMMARY:Höfeflohmarkt in Bermbach
DESCRIPTION:
URL:https://gemeinde-waldems.de/event/hoefeflohmarkt-in-bermbach/
LOCATION:in Bermbach
END:VEVENT
BEGIN:VEVENT
DTSTART;TZID=Europe/Berlin:20260426T143000
DTEND;TZID=Europe/Berlin:20260426T143000
DTSTAMP:20260426T013013
CREATED:20260203T120020Z
LAST-MODIFIED:20260203T120104Z
UID:8679-1777213800-1777213800@gemeinde-waldems.de
SUMMARY:Frühlingskonzert Frauenchor Bermissima
DESCRIPTION:
URL:https://gemeinde-waldems.de/event/fruehlingskonzert-frauenchor-bermissima/
LOCATION:Sängerhalle Bermbach
END:VEVENT
END:VCALENDAR